Package: ReactomeGSA Version: 1.6.1 Command: /Library/Frameworks/R.framework/Versions/Current/Resources/bin/R CMD build --keep-empty-dirs --no-resave-data ReactomeGSA StartedAt: 2021-10-14 14:17:15 -0400 (Thu, 14 Oct 2021) EndedAt: 2021-10-14 14:20:02 -0400 (Thu, 14 Oct 2021) EllapsedTime: 167.0 seconds RetCode: 0 Status: OK PackageFile: ReactomeGSA_1.6.1.tar.gz PackageFileSize: 213.9 KiB