git_url: https://git.bioconductor.org/packages/ReactomeGSA git_branch: RELEASE_3_13 git_last_commit: 0fa14a1 git_last_commit_date: 2021-09-10 02:35:40 -0400 (Fri, 10 Sep 2021) Package: ReactomeGSA Version: 1.6.1 Maintainer: Johannes Griss MaintainerEmail: johannes.griss at meduniwien.ac.at