Package: RcisTarget Version: 1.12.0 Command: C:\cygwin\bin\curl.exe -O http://155.52.207.165/BBS/3.13/bioc/src/contrib/RcisTarget_1.12.0.tar.gz && rm -rf RcisTarget.buildbin-libdir && mkdir RcisTarget.buildbin-libdir && C:\Users\biocbuild\bbs-3.13-bioc\R\bin\R.exe CMD INSTALL --merge-multiarch --build --library=RcisTarget.buildbin-libdir RcisTarget_1.12.0.tar.gz && C:\Users\biocbuild\bbs-3.13-bioc\R\bin\R.exe CMD INSTALL RcisTarget_1.12.0.zip && rm RcisTarget_1.12.0.tar.gz RcisTarget_1.12.0.zip StartedAt: 2021-10-14 11:14:00 -0400 (Thu, 14 Oct 2021) EndedAt: 2021-10-14 11:15:33 -0400 (Thu, 14 Oct 2021) EllapsedTime: 93.1 seconds RetCode: 0 Status: OK