Package: RcisTarget Version: 1.12.0 Command: /home/biocbuild/bbs-3.13-bioc/R/bin/R CMD build --keep-empty-dirs --no-resave-data RcisTarget StartedAt: 2021-10-14 08:09:14 -0400 (Thu, 14 Oct 2021) EndedAt: 2021-10-14 08:10:25 -0400 (Thu, 14 Oct 2021) EllapsedTime: 70.3 seconds RetCode: 0 Status: OK PackageFile: RcisTarget_1.12.0.tar.gz PackageFileSize: 9.356 MiB