Package: RcisTarget Version: 1.12.0 Command: /Library/Frameworks/R.framework/Versions/Current/Resources/bin/R CMD build --keep-empty-dirs --no-resave-data RcisTarget StartedAt: 2021-10-14 14:15:24 -0400 (Thu, 14 Oct 2021) EndedAt: 2021-10-14 14:16:58 -0400 (Thu, 14 Oct 2021) EllapsedTime: 94.5 seconds RetCode: 0 Status: OK PackageFile: RcisTarget_1.12.0.tar.gz PackageFileSize: 9.354 MiB