Package: RchyOptimyx Version: 2.32.0 Command: C:\cygwin\bin\curl.exe -O http://155.52.207.165/BBS/3.13/bioc/src/contrib/RchyOptimyx_2.32.0.tar.gz && rm -rf RchyOptimyx.buildbin-libdir && mkdir RchyOptimyx.buildbin-libdir && C:\Users\biocbuild\bbs-3.13-bioc\R\bin\R.exe CMD INSTALL --merge-multiarch --build --library=RchyOptimyx.buildbin-libdir RchyOptimyx_2.32.0.tar.gz && C:\Users\biocbuild\bbs-3.13-bioc\R\bin\R.exe CMD INSTALL RchyOptimyx_2.32.0.zip && rm RchyOptimyx_2.32.0.tar.gz RchyOptimyx_2.32.0.zip StartedAt: 2021-10-14 11:28:41 -0400 (Thu, 14 Oct 2021) EndedAt: 2021-10-14 11:28:43 -0400 (Thu, 14 Oct 2021) EllapsedTime: 1.5 seconds RetCode: 1 Status: ERROR