Package: Rbowtie Version: 1.32.0 Command: /home/biocbuild/bbs-3.13-bioc/R/bin/R CMD INSTALL Rbowtie StartedAt: 2021-10-14 06:01:59 -0400 (Thu, 14 Oct 2021) EndedAt: 2021-10-14 06:03:16 -0400 (Thu, 14 Oct 2021) EllapsedTime: 77.4 seconds RetCode: 0 Status: OK