Package: RVS Version: 1.14.0 Command: C:\Users\biocbuild\bbs-3.13-bioc\R\bin\R.exe CMD check --force-multiarch --install=check:RVS.install-out.txt --library=C:\Users\biocbuild\bbs-3.13-bioc\R\library --no-vignettes --timings RVS_1.14.0.tar.gz StartedAt: 2021-10-15 05:00:15 -0400 (Fri, 15 Oct 2021) EndedAt: 2021-10-15 05:05:39 -0400 (Fri, 15 Oct 2021) EllapsedTime: 323.9 seconds RetCode: 0 Status: OK CheckDir: RVS.Rcheck Warnings: 0