Package: RVS Version: 1.14.0 Command: chmod a+r RVS -R && C:\Users\biocbuild\bbs-3.13-bioc\R\bin\R.exe CMD build --keep-empty-dirs --no-resave-data RVS StartedAt: 2021-10-14 17:51:36 -0400 (Thu, 14 Oct 2021) EndedAt: 2021-10-14 17:54:15 -0400 (Thu, 14 Oct 2021) EllapsedTime: 158.9 seconds RetCode: 0 Status: OK PackageFile: RVS_1.14.0.tar.gz PackageFileSize: 395.9 KiB