Package: RVS Version: 1.14.0 Command: /home/biocbuild/bbs-3.13-bioc/R/bin/R CMD build --keep-empty-dirs --no-resave-data RVS StartedAt: 2021-10-14 08:17:35 -0400 (Thu, 14 Oct 2021) EndedAt: 2021-10-14 08:19:25 -0400 (Thu, 14 Oct 2021) EllapsedTime: 110.5 seconds RetCode: 0 Status: OK PackageFile: RVS_1.14.0.tar.gz PackageFileSize: 557 KiB