Package: RVS Version: 1.14.0 Command: /Library/Frameworks/R.framework/Versions/Current/Resources/bin/R CMD check --install=check:RVS.install-out.txt --library=/Library/Frameworks/R.framework/Versions/Current/Resources/library --no-vignettes --timings RVS_1.14.0.tar.gz StartedAt: 2021-10-14 23:30:15 -0400 (Thu, 14 Oct 2021) EndedAt: 2021-10-14 23:35:10 -0400 (Thu, 14 Oct 2021) EllapsedTime: 294.9 seconds RetCode: 0 Status: OK CheckDir: RVS.Rcheck Warnings: 0