Package: RVS Version: 1.14.0 Command: /Library/Frameworks/R.framework/Versions/Current/Resources/bin/R CMD build --keep-empty-dirs --no-resave-data RVS StartedAt: 2021-10-14 14:35:23 -0400 (Thu, 14 Oct 2021) EndedAt: 2021-10-14 14:38:07 -0400 (Thu, 14 Oct 2021) EllapsedTime: 164.4 seconds RetCode: 0 Status: OK PackageFile: RVS_1.14.0.tar.gz PackageFileSize: 552.9 KiB