Package: RVS Version: 1.14.0 Command: rm -rf RVS.buildbin-libdir && mkdir RVS.buildbin-libdir && /Users/biocbuild/BBS/utils/build-universal.sh RVS_1.14.0.tar.gz /Library/Frameworks/R.framework/Versions/Current/Resources/bin/R RVS.buildbin-libdir StartedAt: 2021-10-15 03:51:06 -0400 (Fri, 15 Oct 2021) EndedAt: 2021-10-15 03:52:07 -0400 (Fri, 15 Oct 2021) EllapsedTime: 61.4 seconds RetCode: 0 Status: OK PackageFile: RVS_1.14.0.tgz PackageFileSize: 659.8 KiB