git_url: https://git.bioconductor.org/packages/RVS git_branch: RELEASE_3_13 git_last_commit: 02ba79e git_last_commit_date: 2021-05-19 12:29:20 -0400 (Wed, 19 May 2021) Package: RVS Version: 1.14.0 Maintainer: Thomas Sherman MaintainerEmail: tomsherman159 at gmail.com