Package: RUVnormalize Version: 1.26.0 Command: /Library/Frameworks/R.framework/Versions/Current/Resources/bin/R CMD build --keep-empty-dirs --no-resave-data RUVnormalize StartedAt: 2021-10-14 14:35:13 -0400 (Thu, 14 Oct 2021) EndedAt: 2021-10-14 14:35:33 -0400 (Thu, 14 Oct 2021) EllapsedTime: 20.4 seconds RetCode: 0 Status: OK PackageFile: RUVnormalize_1.26.0.tar.gz PackageFileSize: 228.6 KiB