Package: RUVcorr Version: 1.24.0 Command: /home/biocbuild/bbs-3.13-bioc/R/bin/R CMD check --install=check:RUVcorr.install-out.txt --library=/home/biocbuild/bbs-3.13-bioc/R/library --no-vignettes --timings RUVcorr_1.24.0.tar.gz StartedAt: 2021-10-14 11:26:48 -0400 (Thu, 14 Oct 2021) EndedAt: 2021-10-14 11:27:26 -0400 (Thu, 14 Oct 2021) EllapsedTime: 37.9 seconds RetCode: 0 Status: WARNINGS CheckDir: RUVcorr.Rcheck Warnings: 1