Package: RUVSeq Version: 1.26.0 Command: rm -rf RUVSeq.buildbin-libdir && mkdir RUVSeq.buildbin-libdir && /Users/biocbuild/BBS/utils/build-universal.sh RUVSeq_1.26.0.tar.gz /Library/Frameworks/R.framework/Versions/Current/Resources/bin/R RUVSeq.buildbin-libdir StartedAt: 2021-10-15 03:51:01 -0400 (Fri, 15 Oct 2021) EndedAt: 2021-10-15 03:52:02 -0400 (Fri, 15 Oct 2021) EllapsedTime: 61.5 seconds RetCode: 0 Status: OK PackageFile: RUVSeq_1.26.0.tgz PackageFileSize: 182.2 KiB