Package: RTNduals Version: 1.16.0 Command: C:\cygwin\bin\curl.exe -O http://155.52.207.165/BBS/3.13/bioc/src/contrib/RTNduals_1.16.0.tar.gz && rm -rf RTNduals.buildbin-libdir && mkdir RTNduals.buildbin-libdir && C:\Users\biocbuild\bbs-3.13-bioc\R\bin\R.exe CMD INSTALL --merge-multiarch --build --library=RTNduals.buildbin-libdir RTNduals_1.16.0.tar.gz && C:\Users\biocbuild\bbs-3.13-bioc\R\bin\R.exe CMD INSTALL RTNduals_1.16.0.zip && rm RTNduals_1.16.0.tar.gz RTNduals_1.16.0.zip StartedAt: 2021-10-14 11:16:21 -0400 (Thu, 14 Oct 2021) EndedAt: 2021-10-14 11:17:16 -0400 (Thu, 14 Oct 2021) EllapsedTime: 55.3 seconds RetCode: 0 Status: OK