Package: RTNduals Version: 1.16.0 Command: chmod a+r RTNduals -R && C:\Users\biocbuild\bbs-3.13-bioc\R\bin\R.exe CMD build --keep-empty-dirs --no-resave-data RTNduals StartedAt: 2021-10-14 17:49:53 -0400 (Thu, 14 Oct 2021) EndedAt: 2021-10-14 17:51:36 -0400 (Thu, 14 Oct 2021) EllapsedTime: 103.0 seconds RetCode: 0 Status: OK PackageFile: RTNduals_1.16.0.tar.gz PackageFileSize: 584 KiB