Package: RTNduals Version: 1.16.0 Command: /home/biocbuild/bbs-3.13-bioc/R/bin/R CMD check --install=check:RTNduals.install-out.txt --library=/home/biocbuild/bbs-3.13-bioc/R/library --no-vignettes --timings RTNduals_1.16.0.tar.gz StartedAt: 2021-10-14 11:26:13 -0400 (Thu, 14 Oct 2021) EndedAt: 2021-10-14 11:31:19 -0400 (Thu, 14 Oct 2021) EllapsedTime: 305.8 seconds RetCode: 0 Status: OK CheckDir: RTNduals.Rcheck Warnings: 0