Package: RTN Version: 2.16.0 Command: rm -rf RTN.buildbin-libdir && mkdir RTN.buildbin-libdir && C:\Users\biocbuild\bbs-3.13-bioc\R\bin\R.exe CMD INSTALL --merge-multiarch --build --library=RTN.buildbin-libdir RTN_2.16.0.tar.gz StartedAt: 2021-10-15 11:32:39 -0400 (Fri, 15 Oct 2021) EndedAt: 2021-10-15 11:33:55 -0400 (Fri, 15 Oct 2021) EllapsedTime: 75.2 seconds RetCode: 0 Status: OK PackageFile: RTN_2.16.0.zip PackageFileSize: 10.59 MiB