Package: RTN Version: 2.16.0 Command: /home/biocbuild/bbs-3.13-bioc/R/bin/R CMD INSTALL RTN StartedAt: 2021-10-14 06:34:27 -0400 (Thu, 14 Oct 2021) EndedAt: 2021-10-14 06:34:58 -0400 (Thu, 14 Oct 2021) EllapsedTime: 31.4 seconds RetCode: 0 Status: OK