Package: RTN Version: 2.16.0 Command: /home/biocbuild/bbs-3.13-bioc/R/bin/R CMD build --keep-empty-dirs --no-resave-data RTN StartedAt: 2021-10-14 08:16:48 -0400 (Thu, 14 Oct 2021) EndedAt: 2021-10-14 08:18:48 -0400 (Thu, 14 Oct 2021) EllapsedTime: 120.8 seconds RetCode: 0 Status: OK PackageFile: RTN_2.16.0.tar.gz PackageFileSize: 10.53 MiB