Package: RTN Version: 2.16.0 Command: rm -rf RTN.buildbin-libdir && mkdir RTN.buildbin-libdir && /Users/biocbuild/BBS/utils/build-universal.sh RTN_2.16.0.tar.gz /Library/Frameworks/R.framework/Versions/Current/Resources/bin/R RTN.buildbin-libdir StartedAt: 2021-10-15 03:50:07 -0400 (Fri, 15 Oct 2021) EndedAt: 2021-10-15 03:51:06 -0400 (Fri, 15 Oct 2021) EllapsedTime: 59.0 seconds RetCode: 0 Status: OK PackageFile: RTN_2.16.0.tgz PackageFileSize: 10.5 MiB