git_url: https://git.bioconductor.org/packages/RTN git_branch: RELEASE_3_13 git_last_commit: ae869f1 git_last_commit_date: 2021-05-19 11:59:58 -0400 (Wed, 19 May 2021) Package: RTN Version: 2.16.0 Maintainer: Mauro Castro MaintainerEmail: mauro.a.castro at gmail.com