Package: RTCA Version: 1.44.0 Command: C:\cygwin\bin\curl.exe -O http://155.52.207.165/BBS/3.13/bioc/src/contrib/RTCA_1.44.0.tar.gz && rm -rf RTCA.buildbin-libdir && mkdir RTCA.buildbin-libdir && C:\Users\biocbuild\bbs-3.13-bioc\R\bin\R.exe CMD INSTALL --merge-multiarch --build --library=RTCA.buildbin-libdir RTCA_1.44.0.tar.gz && C:\Users\biocbuild\bbs-3.13-bioc\R\bin\R.exe CMD INSTALL RTCA_1.44.0.zip && rm RTCA_1.44.0.tar.gz RTCA_1.44.0.zip StartedAt: 2021-10-14 07:38:40 -0400 (Thu, 14 Oct 2021) EndedAt: 2021-10-14 07:39:45 -0400 (Thu, 14 Oct 2021) EllapsedTime: 64.6 seconds RetCode: 0 Status: OK