Package: RSeqAn Version: 1.12.0 Command: rm -rf RSeqAn.buildbin-libdir && mkdir RSeqAn.buildbin-libdir && /Users/biocbuild/BBS/utils/build-universal.sh RSeqAn_1.12.0.tar.gz /Library/Frameworks/R.framework/Versions/Current/Resources/bin/R RSeqAn.buildbin-libdir StartedAt: 2021-10-15 03:49:30 -0400 (Fri, 15 Oct 2021) EndedAt: 2021-10-15 03:50:29 -0400 (Fri, 15 Oct 2021) EllapsedTime: 58.6 seconds RetCode: 0 Status: OK PackageFile: RSeqAn_1.12.0.tgz PackageFileSize: 1.716 MiB