Package: RRHO Version: 1.32.0 Command: /home/biocbuild/bbs-3.13-bioc/R/bin/R CMD build --keep-empty-dirs --no-resave-data RRHO StartedAt: 2021-10-14 08:16:10 -0400 (Thu, 14 Oct 2021) EndedAt: 2021-10-14 08:16:15 -0400 (Thu, 14 Oct 2021) EllapsedTime: 4.7 seconds RetCode: 0 Status: OK PackageFile: RRHO_1.32.0.tar.gz PackageFileSize: 615.7 KiB