Package: RProtoBufLib Version: 2.4.0 Command: /Library/Frameworks/R.framework/Versions/Current/Resources/bin/R CMD check --install=check:RProtoBufLib.install-out.txt --library=/Library/Frameworks/R.framework/Versions/Current/Resources/library --no-vignettes --timings RProtoBufLib_2.4.0.tar.gz StartedAt: 2021-10-14 23:23:27 -0400 (Thu, 14 Oct 2021) EndedAt: 2021-10-14 23:23:50 -0400 (Thu, 14 Oct 2021) EllapsedTime: 22.8 seconds RetCode: 0 Status: WARNINGS CheckDir: RProtoBufLib.Rcheck Warnings: 1