git_url: https://git.bioconductor.org/packages/ROntoTools git_branch: RELEASE_3_13 git_last_commit: b1691c3 git_last_commit_date: 2021-05-19 11:58:19 -0400 (Wed, 19 May 2021) Package: ROntoTools Version: 2.20.0 Maintainer: Calin Voichita MaintainerEmail: calin at wayne.edu