Package: ROC Version: 1.68.1 Command: chmod a+r ROC -R && C:\Users\biocbuild\bbs-3.13-bioc\R\bin\R.exe CMD build --keep-empty-dirs --no-resave-data ROC StartedAt: 2021-10-14 17:44:47 -0400 (Thu, 14 Oct 2021) EndedAt: 2021-10-14 17:44:57 -0400 (Thu, 14 Oct 2021) EllapsedTime: 9.8 seconds RetCode: 0 Status: OK PackageFile: ROC_1.68.1.tar.gz PackageFileSize: 250.9 KiB