git_url: https://git.bioconductor.org/packages/RNAprobR git_branch: RELEASE_3_13 git_last_commit: 0fcd69f git_last_commit_date: 2021-05-19 12:11:50 -0400 (Wed, 19 May 2021) Package: RNAprobR Version: 1.24.0 Maintainer: Nikos Sidiropoulos MaintainerEmail: nikos.sidiro at gmail.com