Package: RNAmodR Version: 1.6.0 Command: /Library/Frameworks/R.framework/Versions/Current/Resources/bin/R CMD check --install=check:RNAmodR.install-out.txt --library=/Library/Frameworks/R.framework/Versions/Current/Resources/library --no-vignettes --timings RNAmodR_1.6.0.tar.gz StartedAt: 2021-10-14 23:16:07 -0400 (Thu, 14 Oct 2021) EndedAt: 2021-10-14 23:27:49 -0400 (Thu, 14 Oct 2021) EllapsedTime: 702.1 seconds RetCode: 0 Status: OK CheckDir: RNAmodR.Rcheck Warnings: 0