git_url: https://git.bioconductor.org/packages/RNAmodR.ML git_branch: RELEASE_3_13 git_last_commit: 70709a5 git_last_commit_date: 2021-05-19 12:44:32 -0400 (Wed, 19 May 2021) Package: RNAmodR.ML Version: 1.6.0 Maintainer: Felix G.M. Ernst MaintainerEmail: felix.gm.ernst at outlook.com