Package: RNAmodR.AlkAnilineSeq Version: 1.6.0 Command: /Library/Frameworks/R.framework/Versions/Current/Resources/bin/R CMD INSTALL RNAmodR.AlkAnilineSeq StartedAt: 2021-10-14 10:18:02 -0400 (Thu, 14 Oct 2021) EndedAt: 2021-10-14 10:18:59 -0400 (Thu, 14 Oct 2021) EllapsedTime: 56.3 seconds RetCode: 0 Status: OK