Package: RNAmodR.AlkAnilineSeq Version: 1.6.0 Command: /Library/Frameworks/R.framework/Versions/Current/Resources/bin/R CMD check --install=check:RNAmodR.AlkAnilineSeq.install-out.txt --library=/Library/Frameworks/R.framework/Versions/Current/Resources/library --no-vignettes --timings RNAmodR.AlkAnilineSeq_1.6.0.tar.gz StartedAt: 2021-10-14 23:16:14 -0400 (Thu, 14 Oct 2021) EndedAt: 2021-10-14 23:24:46 -0400 (Thu, 14 Oct 2021) EllapsedTime: 512.2 seconds RetCode: 0 Status: OK CheckDir: RNAmodR.AlkAnilineSeq.Rcheck Warnings: 0