Package: RNAinteract Version: 1.40.0 Command: /home/biocbuild/bbs-3.13-bioc/R/bin/R CMD check --install=check:RNAinteract.install-out.txt --library=/home/biocbuild/bbs-3.13-bioc/R/library --no-vignettes --timings RNAinteract_1.40.0.tar.gz StartedAt: 2021-10-14 11:21:59 -0400 (Thu, 14 Oct 2021) EndedAt: 2021-10-14 11:24:46 -0400 (Thu, 14 Oct 2021) EllapsedTime: 166.9 seconds RetCode: 0 Status: OK CheckDir: RNAinteract.Rcheck Warnings: 0