Package: RNAinteract Version: 1.40.0 Command: /Library/Frameworks/R.framework/Versions/Current/Resources/bin/R CMD INSTALL RNAinteract StartedAt: 2021-10-14 09:26:58 -0400 (Thu, 14 Oct 2021) EndedAt: 2021-10-14 09:27:42 -0400 (Thu, 14 Oct 2021) EllapsedTime: 44.5 seconds RetCode: 0 Status: OK