Package: RNAinteract Version: 1.40.0 Command: /Library/Frameworks/R.framework/Versions/Current/Resources/bin/R CMD check --install=check:RNAinteract.install-out.txt --library=/Library/Frameworks/R.framework/Versions/Current/Resources/library --no-vignettes --timings RNAinteract_1.40.0.tar.gz StartedAt: 2021-10-14 23:15:55 -0400 (Thu, 14 Oct 2021) EndedAt: 2021-10-14 23:19:54 -0400 (Thu, 14 Oct 2021) EllapsedTime: 238.5 seconds RetCode: 0 Status: OK CheckDir: RNAinteract.Rcheck Warnings: 0