Package: RNAinteract Version: 1.40.0 Command: rm -rf RNAinteract.buildbin-libdir && mkdir RNAinteract.buildbin-libdir && /Users/biocbuild/BBS/utils/build-universal.sh RNAinteract_1.40.0.tar.gz /Library/Frameworks/R.framework/Versions/Current/Resources/bin/R RNAinteract.buildbin-libdir StartedAt: 2021-10-15 03:46:39 -0400 (Fri, 15 Oct 2021) EndedAt: 2021-10-15 03:47:28 -0400 (Fri, 15 Oct 2021) EllapsedTime: 49.3 seconds RetCode: 0 Status: OK PackageFile: RNAinteract_1.40.0.tgz PackageFileSize: 851.9 KiB