Package: RNASeqPower Version: 1.32.0 Command: chmod a+r RNASeqPower -R && C:\Users\biocbuild\bbs-3.13-bioc\R\bin\R.exe CMD build --keep-empty-dirs --no-resave-data RNASeqPower StartedAt: 2021-10-14 17:43:29 -0400 (Thu, 14 Oct 2021) EndedAt: 2021-10-14 17:43:47 -0400 (Thu, 14 Oct 2021) EllapsedTime: 17.7 seconds RetCode: 0 Status: OK PackageFile: RNASeqPower_1.32.0.tar.gz PackageFileSize: 145.3 KiB