Package: RNASeqPower Version: 1.32.0 Command: /Library/Frameworks/R.framework/Versions/Current/Resources/bin/R CMD INSTALL RNASeqPower StartedAt: 2021-10-14 08:07:16 -0400 (Thu, 14 Oct 2021) EndedAt: 2021-10-14 08:08:06 -0400 (Thu, 14 Oct 2021) EllapsedTime: 50.0 seconds RetCode: 0 Status: OK