Package: RMassBank Version: 3.2.0 Command: C:\Users\biocbuild\bbs-3.13-bioc\R\bin\R.exe --arch x64 CMD INSTALL --no-multiarch RMassBank StartedAt: 2021-10-14 08:31:51 -0400 (Thu, 14 Oct 2021) EndedAt: 2021-10-14 08:34:54 -0400 (Thu, 14 Oct 2021) EllapsedTime: 183.4 seconds RetCode: 0 Status: OK