Package: RMassBank Version: 3.2.0 Command: /Library/Frameworks/R.framework/Versions/Current/Resources/bin/R CMD INSTALL RMassBank StartedAt: 2021-10-14 08:58:00 -0400 (Thu, 14 Oct 2021) EndedAt: 2021-10-14 08:59:03 -0400 (Thu, 14 Oct 2021) EllapsedTime: 62.9 seconds RetCode: 0 Status: OK