Package: RLassoCox Version: 1.0.0 Command: C:\cygwin\bin\curl.exe -O http://155.52.207.165/BBS/3.13/bioc/src/contrib/RLassoCox_1.0.0.tar.gz && rm -rf RLassoCox.buildbin-libdir && mkdir RLassoCox.buildbin-libdir && C:\Users\biocbuild\bbs-3.13-bioc\R\bin\R.exe CMD INSTALL --merge-multiarch --build --library=RLassoCox.buildbin-libdir RLassoCox_1.0.0.tar.gz && C:\Users\biocbuild\bbs-3.13-bioc\R\bin\R.exe CMD INSTALL RLassoCox_1.0.0.zip && rm RLassoCox_1.0.0.tar.gz RLassoCox_1.0.0.zip StartedAt: 2021-10-14 07:24:59 -0400 (Thu, 14 Oct 2021) EndedAt: 2021-10-14 07:25:55 -0400 (Thu, 14 Oct 2021) EllapsedTime: 55.6 seconds RetCode: 0 Status: OK