Package: RLassoCox Version: 1.0.0 Command: /Library/Frameworks/R.framework/Versions/Current/Resources/bin/R CMD check --install=check:RLassoCox.install-out.txt --library=/Library/Frameworks/R.framework/Versions/Current/Resources/library --no-vignettes --timings RLassoCox_1.0.0.tar.gz StartedAt: 2021-10-14 23:13:40 -0400 (Thu, 14 Oct 2021) EndedAt: 2021-10-14 23:17:53 -0400 (Thu, 14 Oct 2021) EllapsedTime: 252.7 seconds RetCode: 0 Status: OK CheckDir: RLassoCox.Rcheck Warnings: 0