Package: RImmPort Version: 1.20.0 Command: rm -rf RImmPort.buildbin-libdir && mkdir RImmPort.buildbin-libdir && C:\Users\biocbuild\bbs-3.13-bioc\R\bin\R.exe CMD INSTALL --merge-multiarch --build --library=RImmPort.buildbin-libdir RImmPort_1.20.0.tar.gz StartedAt: 2021-10-15 11:24:44 -0400 (Fri, 15 Oct 2021) EndedAt: 2021-10-15 11:25:19 -0400 (Fri, 15 Oct 2021) EllapsedTime: 35.1 seconds RetCode: 0 Status: OK PackageFile: RImmPort_1.20.0.zip PackageFileSize: 2.595 MiB