Package: RITAN Version: 1.16.0 Command: /Library/Frameworks/R.framework/Versions/Current/Resources/bin/R CMD INSTALL RITAN StartedAt: 2021-10-14 09:48:22 -0400 (Thu, 14 Oct 2021) EndedAt: 2021-10-14 09:49:16 -0400 (Thu, 14 Oct 2021) EllapsedTime: 53.7 seconds RetCode: 0 Status: OK