Package: RGSEA Version: 1.26.0 Command: chmod a+r RGSEA -R && C:\Users\biocbuild\bbs-3.13-bioc\R\bin\R.exe CMD build --keep-empty-dirs --no-resave-data RGSEA StartedAt: 2021-10-14 17:35:05 -0400 (Thu, 14 Oct 2021) EndedAt: 2021-10-14 17:35:51 -0400 (Thu, 14 Oct 2021) EllapsedTime: 45.4 seconds RetCode: 0 Status: OK PackageFile: RGSEA_1.26.0.tar.gz PackageFileSize: 1.719 MiB