Package: RGSEA Version: 1.26.0 Command: /Library/Frameworks/R.framework/Versions/Current/Resources/bin/R CMD check --install=check:RGSEA.install-out.txt --library=/Library/Frameworks/R.framework/Versions/Current/Resources/library --no-vignettes --timings RGSEA_1.26.0.tar.gz StartedAt: 2021-10-14 23:09:53 -0400 (Thu, 14 Oct 2021) EndedAt: 2021-10-14 23:10:39 -0400 (Thu, 14 Oct 2021) EllapsedTime: 46.6 seconds RetCode: 0 Status: OK CheckDir: RGSEA.Rcheck Warnings: 0